BEGIN:VCALENDAR
VERSION:2.0
PRODID:-//Santa Barbara County Trails Council - ECPv6.15.20//NONSGML v1.0//EN
CALSCALE:GREGORIAN
METHOD:PUBLISH
X-WR-CALNAME:Santa Barbara County Trails Council
X-ORIGINAL-URL:https://santabarbaratrails.org
X-WR-CALDESC:Events for Santa Barbara County Trails Council
REFRESH-INTERVAL;VALUE=DURATION:PT1H
X-Robots-Tag:noindex
X-PUBLISHED-TTL:PT1H
BEGIN:VTIMEZONE
TZID:America/Los_Angeles
BEGIN:DAYLIGHT
TZOFFSETFROM:-0800
TZOFFSETTO:-0700
TZNAME:PDT
DTSTART:20240310T100000
END:DAYLIGHT
BEGIN:STANDARD
TZOFFSETFROM:-0700
TZOFFSETTO:-0800
TZNAME:PST
DTSTART:20241103T090000
END:STANDARD
BEGIN:DAYLIGHT
TZOFFSETFROM:-0800
TZOFFSETTO:-0700
TZNAME:PDT
DTSTART:20250309T100000
END:DAYLIGHT
BEGIN:STANDARD
TZOFFSETFROM:-0700
TZOFFSETTO:-0800
TZNAME:PST
DTSTART:20251102T090000
END:STANDARD
BEGIN:DAYLIGHT
TZOFFSETFROM:-0800
TZOFFSETTO:-0700
TZNAME:PDT
DTSTART:20260308T100000
END:DAYLIGHT
BEGIN:STANDARD
TZOFFSETFROM:-0700
TZOFFSETTO:-0800
TZNAME:PST
DTSTART:20261101T090000
END:STANDARD
END:VTIMEZONE
BEGIN:VEVENT
DTSTART;TZID=America/Los_Angeles:20250508T173000
DTEND;TZID=America/Los_Angeles:20250508T190000
DTSTAMP:20260421T230939
CREATED:20240506T041253Z
LAST-MODIFIED:20250105T031256Z
UID:8611-1746725400-1746730800@santabarbaratrails.org
SUMMARY:5-Peak Challenge Celebration
DESCRIPTION:Join us for a celebratory Trails & Ales happy hour to honor the incredible accomplishment of the men and women who have triumphed over the 5-Peak Challenge with grit and determination.\n\n\nOn Wednesday\, May 8th\, from 5:30 PM to 7:00 PM\, we'll be at the Anchor Rose in the Harbor for an evening of relaxation\, camaraderie\, and\, of course\, delicious brews!\n \n\n\nHere's what awaits you:\n\n\n➜ "5 Peaks" Refreshment: A specially crafted drink commemorating an epic accomplishment.\n➜ Seven brews on tap: Lagers\, Ales\, IPAs\, and more\n➜ Mingle with stalwart peak baggers: Share stories\, swap war tales\, and revel in their accomplishments.\n➜ Grand Prize Drawing: Enter to win a $100 gift card to help fuel your next adventure!\n \n\n\nTake advantage of this chance to raise a glass (or two) to toast the challengers' fantastic achievement! Your presence is invaluable and will make this celebration truly special.\n \n\n\nSee you there!\n \n\n\nP.S. Spread the word to your fellow adventure hikers! The more the merrier!
URL:https://santabarbaratrails.org/event/5-peak-challenge/
LOCATION:113 Harbor Way\, Santa Barbara\, CA 93109\, 113 Harbor Way\, Santa Barbara\, CA\, 93109
CATEGORIES:Trails
ATTACH;FMTTYPE=image/jpeg:https://santabarbaratrails.org/wp-content/uploads/2024/05/five-peaks-966x644-1.jpg
ORGANIZER;CN="Santa Barbara County Trails Council":MAILTO:explore@santabarbaratrails.org
END:VEVENT
END:VCALENDAR