BEGIN:VCALENDAR
VERSION:2.0
PRODID:-//Santa Barbara County Trails Council - ECPv6.15.20//NONSGML v1.0//EN
CALSCALE:GREGORIAN
METHOD:PUBLISH
X-WR-CALNAME:Santa Barbara County Trails Council
X-ORIGINAL-URL:https://santabarbaratrails.org
X-WR-CALDESC:Events for Santa Barbara County Trails Council
REFRESH-INTERVAL;VALUE=DURATION:PT1H
X-Robots-Tag:noindex
X-PUBLISHED-TTL:PT1H
BEGIN:VTIMEZONE
TZID:America/Los_Angeles
BEGIN:DAYLIGHT
TZOFFSETFROM:-0800
TZOFFSETTO:-0700
TZNAME:PDT
DTSTART:20240310T100000
END:DAYLIGHT
BEGIN:STANDARD
TZOFFSETFROM:-0700
TZOFFSETTO:-0800
TZNAME:PST
DTSTART:20241103T090000
END:STANDARD
BEGIN:DAYLIGHT
TZOFFSETFROM:-0800
TZOFFSETTO:-0700
TZNAME:PDT
DTSTART:20250309T100000
END:DAYLIGHT
BEGIN:STANDARD
TZOFFSETFROM:-0700
TZOFFSETTO:-0800
TZNAME:PST
DTSTART:20251102T090000
END:STANDARD
BEGIN:DAYLIGHT
TZOFFSETFROM:-0800
TZOFFSETTO:-0700
TZNAME:PDT
DTSTART:20260308T100000
END:DAYLIGHT
BEGIN:STANDARD
TZOFFSETFROM:-0700
TZOFFSETTO:-0800
TZNAME:PST
DTSTART:20261101T090000
END:STANDARD
END:VTIMEZONE
BEGIN:VEVENT
DTSTART;TZID=America/Los_Angeles:20251205T080000
DTEND;TZID=America/Los_Angeles:20251206T170000
DTSTAMP:20260421T161239
CREATED:20251110T200233Z
LAST-MODIFIED:20251124T074650Z
UID:12657-1764921600-1765040400@santabarbaratrails.org
SUMMARY:Island View Endurance Run
DESCRIPTION:Experience one of California’s most breathtaking trail running events\, the Island View Endurance Run\, hosted by the Santa Barbara County Trails Council. Challenge yourself on the stunning Gaviota Coast and take in sweeping island and ocean views as you run through the Los Padres National Forest and Santa Ynez Mountains.\nChoose your adventure: \n📅 December 5\, 2025 — 100-Mile & 100-Kilometer Ultra Events\n📅 December 6\, 2025 — 12K\, 25K\, & 50K Runs \nFrom ridgelines to canyons\, every mile of this remarkable course offers a new perspective on California’s wild beauty. Don’t miss your chance to push your limits\, connect with nature\, and support local trails! \n🌿 Your Run Supports Local Trails\nAll proceeds benefit the Santa Barbara County Trails Council\, helping maintain and protect trails throughout the county — from the foothills to the Gaviota Coast. \n📍 Between Santa Barbara and Buellton\, CA\n🔗 Register now: https://islandviewtrail.run/ \nA huge thank you to our incredible sponsors for making this event possible — your support helps sustain the trails and outdoor spaces our community loves. \n \n 
URL:https://santabarbaratrails.org/event/island-view-endurance-run/
LOCATION:Gaviota Coast
CATEGORIES:Running
ATTACH;FMTTYPE=image/jpeg:https://santabarbaratrails.org/wp-content/uploads/2025/11/island-view-trail-run-966x644-1.jpg
END:VEVENT
END:VCALENDAR