BEGIN:VCALENDAR
VERSION:2.0
PRODID:-//Santa Barbara County Trails Council - ECPv6.15.20//NONSGML v1.0//EN
CALSCALE:GREGORIAN
METHOD:PUBLISH
X-WR-CALNAME:Santa Barbara County Trails Council
X-ORIGINAL-URL:https://santabarbaratrails.org
X-WR-CALDESC:Events for Santa Barbara County Trails Council
REFRESH-INTERVAL;VALUE=DURATION:PT1H
X-Robots-Tag:noindex
X-PUBLISHED-TTL:PT1H
BEGIN:VTIMEZONE
TZID:America/Los_Angeles
BEGIN:DAYLIGHT
TZOFFSETFROM:-0800
TZOFFSETTO:-0700
TZNAME:PDT
DTSTART:20250309T100000
END:DAYLIGHT
BEGIN:STANDARD
TZOFFSETFROM:-0700
TZOFFSETTO:-0800
TZNAME:PST
DTSTART:20251102T090000
END:STANDARD
BEGIN:DAYLIGHT
TZOFFSETFROM:-0800
TZOFFSETTO:-0700
TZNAME:PDT
DTSTART:20260308T100000
END:DAYLIGHT
BEGIN:STANDARD
TZOFFSETFROM:-0700
TZOFFSETTO:-0800
TZNAME:PST
DTSTART:20261101T090000
END:STANDARD
BEGIN:DAYLIGHT
TZOFFSETFROM:-0800
TZOFFSETTO:-0700
TZNAME:PDT
DTSTART:20270314T100000
END:DAYLIGHT
BEGIN:STANDARD
TZOFFSETFROM:-0700
TZOFFSETTO:-0800
TZNAME:PST
DTSTART:20271107T090000
END:STANDARD
END:VTIMEZONE
BEGIN:VEVENT
DTSTART;TZID=America/Los_Angeles:20260401T080000
DTEND;TZID=America/Los_Angeles:20260430T170000
DTSTAMP:20260419T225305
CREATED:20260401T165909Z
LAST-MODIFIED:20260419T185042Z
UID:13218-1775030400-1777568400@santabarbaratrails.org
SUMMARY:April is Healthy People Heathy Trails Month
DESCRIPTION:Healthy People Healthy Trails Month raises awareness\, fosters education\, promotes collaboration\, and increases outdoor activity by encouraging exploration of amazing places\, discovery of history and culture\, and the growing movement of healthcare providers referring patients to venture outside to improve their health and well-being. For more information\, see the Healthy People Healthy Trails Events Calendar. \nConnect to the Outdoors\nAcross Santa Barbara County\, many organizations support leading a healthy\, active\, outdoor lifestyle. Please check out the Events Calendar or contact each organization for up-to-date information on their event schedules. Many events are offered at no cost; however\, some have event fees. \nThe Trails Council has supported the Healthy People Healthy Trails initiative since its inception.
URL:https://santabarbaratrails.org/event/april-is-healthy-people-heathy-trails-month/
CATEGORIES:Trails,Health
ATTACH;FMTTYPE=image/jpeg:https://santabarbaratrails.org/wp-content/uploads/2026/04/coastal-trail-966x644-1.jpg
END:VEVENT
END:VCALENDAR