BEGIN:VCALENDAR
VERSION:2.0
PRODID:-//Santa Barbara County Trails Council - ECPv6.15.20//NONSGML v1.0//EN
CALSCALE:GREGORIAN
METHOD:PUBLISH
X-ORIGINAL-URL:https://santabarbaratrails.org
X-WR-CALDESC:Events for Santa Barbara County Trails Council
REFRESH-INTERVAL;VALUE=DURATION:PT1H
X-Robots-Tag:noindex
X-PUBLISHED-TTL:PT1H
BEGIN:VTIMEZONE
TZID:America/Los_Angeles
BEGIN:DAYLIGHT
TZOFFSETFROM:-0800
TZOFFSETTO:-0700
TZNAME:PDT
DTSTART:20250309T100000
END:DAYLIGHT
BEGIN:STANDARD
TZOFFSETFROM:-0700
TZOFFSETTO:-0800
TZNAME:PST
DTSTART:20251102T090000
END:STANDARD
BEGIN:DAYLIGHT
TZOFFSETFROM:-0800
TZOFFSETTO:-0700
TZNAME:PDT
DTSTART:20260308T100000
END:DAYLIGHT
BEGIN:STANDARD
TZOFFSETFROM:-0700
TZOFFSETTO:-0800
TZNAME:PST
DTSTART:20261101T090000
END:STANDARD
BEGIN:DAYLIGHT
TZOFFSETFROM:-0800
TZOFFSETTO:-0700
TZNAME:PDT
DTSTART:20270314T100000
END:DAYLIGHT
BEGIN:STANDARD
TZOFFSETFROM:-0700
TZOFFSETTO:-0800
TZNAME:PST
DTSTART:20271107T090000
END:STANDARD
END:VTIMEZONE
BEGIN:VEVENT
DTSTART;TZID=America/Los_Angeles:20260511T190000
DTEND;TZID=America/Los_Angeles:20260511T203000
DTSTAMP:20260421T084137
CREATED:20251216T020250Z
LAST-MODIFIED:20251216T020250Z
UID:12762-1778526000-1778531400@santabarbaratrails.org
SUMMARY:Trails Council Board of Directors Meeting
DESCRIPTION:Join us for the Santa Barbara County Trails Council Board Meeting to learn more about our ongoing projects\, trail initiatives\, and ways you can get involved in supporting local trail access. We’ll cover current programs\, upcoming events\, and community partnerships—the agenda will be posted online ahead of the meeting. The public is welcome to attend.
URL:https://santabarbaratrails.org/event/trails-council-board-of-directors-meeting-5/
LOCATION:121 Grey Street\, 121 Grey Street\, Santa Barbara\, CA\, 93101
CATEGORIES:Board Meeting
ATTACH;FMTTYPE=image/jpeg:https://santabarbaratrails.org/wp-content/uploads/2025/12/island-view-endurance-run-sunset-966x644-1.jpg
ORGANIZER;CN="Santa Barbara County Trails Council":MAILTO:explore@santabarbaratrails.org
END:VEVENT
BEGIN:VEVENT
DTSTART;TZID=America/Los_Angeles:20260713T190000
DTEND;TZID=America/Los_Angeles:20260713T203000
DTSTAMP:20260421T084137
CREATED:20260129T164345Z
LAST-MODIFIED:20260219T043356Z
UID:13078-1783969200-1783974600@santabarbaratrails.org
SUMMARY:Trails Council Board of Directors Meeting
DESCRIPTION:Join us for the Santa Barbara County Trails Council Board Meeting to learn more about our ongoing projects\, trail initiatives\, and ways you can get involved in supporting local trail access. We’ll cover current programs\, upcoming events\, and community partnerships—the agenda will be posted online ahead of the meeting. The public is welcome to attend.
URL:https://santabarbaratrails.org/event/trails-council-board-of-directors-meeting-6/
LOCATION:121 Grey Street\, 121 Grey Street\, Santa Barbara\, CA\, 93101
CATEGORIES:Board Meeting
ATTACH;FMTTYPE=image/png:https://santabarbaratrails.org/wp-content/uploads/2026/01/gaviota-state-park-966x644-1.png
ORGANIZER;CN="Santa Barbara County Trails Council":MAILTO:explore@santabarbaratrails.org
END:VEVENT
END:VCALENDAR